Package: scAnnotatR Version: 1.12.0 Command: rm -rf scAnnotatR.buildbin-libdir && mkdir scAnnotatR.buildbin-libdir && /Users/biocbuild/BBS/utils/build-universal.sh scAnnotatR_1.12.0.tar.gz /Library/Frameworks/R.framework/Resources/bin/R scAnnotatR.buildbin-libdir StartedAt: 2025-01-28 14:28:38 -0500 (Tue, 28 Jan 2025) EndedAt: 2025-01-28 14:30:55 -0500 (Tue, 28 Jan 2025) EllapsedTime: 137.1 seconds RetCode: 0 Status: OK PackageFile: scAnnotatR_1.12.0.tgz PackageFileSize: 1.027 MiB