Package: scAnnotatR Version: 1.12.0 Command: /Library/Frameworks/R.framework/Resources/bin/R CMD INSTALL scAnnotatR StartedAt: 2025-01-27 17:43:35 -0500 (Mon, 27 Jan 2025) EndedAt: 2025-01-27 17:44:31 -0500 (Mon, 27 Jan 2025) EllapsedTime: 56.1 seconds RetCode: 0 Status: OK