Package: scAnnotatR Version: 1.12.0 Command: /Library/Frameworks/R.framework/Resources/bin/R CMD check --install=check:scAnnotatR.install-out.txt --library=/Library/Frameworks/R.framework/Resources/library --no-vignettes --timings scAnnotatR_1.12.0.tar.gz StartedAt: 2025-01-29 07:46:32 -0500 (Wed, 29 Jan 2025) EndedAt: 2025-01-29 07:54:41 -0500 (Wed, 29 Jan 2025) EllapsedTime: 489.4 seconds RetCode: 0 Status: WARNINGS CheckDir: scAnnotatR.Rcheck Warnings: 1