Package: satuRn Version: 1.14.0 Command: /home/biocbuild/bbs-3.20-bioc/R/bin/R CMD build --keep-empty-dirs --no-resave-data --md5 satuRn StartedAt: 2025-01-27 19:53:07 -0500 (Mon, 27 Jan 2025) EndedAt: 2025-01-27 19:54:21 -0500 (Mon, 27 Jan 2025) EllapsedTime: 74.1 seconds RetCode: 0 Status: OK PackageFile: satuRn_1.14.0.tar.gz PackageFileSize: 3.591 MiB