Package: saseR Version: 1.2.0 Command: /home/biocbuild/R/R/bin/R CMD build --keep-empty-dirs --no-resave-data saseR StartedAt: 2025-01-28 03:01:40 -0000 (Tue, 28 Jan 2025) EndedAt: 2025-01-28 03:05:42 -0000 (Tue, 28 Jan 2025) EllapsedTime: 242.2 seconds RetCode: 0 Status: OK PackageFile: saseR_1.2.0.tar.gz PackageFileSize: 1.231 MiB