Package: saseR Version: 1.2.0 Command: /home/biocbuild/bbs-3.20-bioc/R/bin/R CMD build --keep-empty-dirs --no-resave-data --md5 saseR StartedAt: 2025-01-27 19:53:01 -0500 (Mon, 27 Jan 2025) EndedAt: 2025-01-27 19:57:11 -0500 (Mon, 27 Jan 2025) EllapsedTime: 250.3 seconds RetCode: 0 Status: OK PackageFile: saseR_1.2.0.tar.gz PackageFileSize: 1.209 MiB