Package: sarks Version: 1.18.0 Command: /home/biocbuild/R/R/bin/R CMD INSTALL sarks StartedAt: 2025-01-30 20:14:53 -0000 (Thu, 30 Jan 2025) EndedAt: 2025-01-30 20:15:05 -0000 (Thu, 30 Jan 2025) EllapsedTime: 12.6 seconds RetCode: 0 Status: OK