Package: sarks Version: 1.18.0 Command: /home/biocbuild/R/R/bin/R CMD build --keep-empty-dirs --no-resave-data sarks StartedAt: 2025-02-04 02:33:33 -0000 (Tue, 04 Feb 2025) EndedAt: 2025-02-04 02:34:08 -0000 (Tue, 04 Feb 2025) EllapsedTime: 34.0 seconds RetCode: 0 Status: OK PackageFile: sarks_1.18.0.tar.gz PackageFileSize: 725.5 KiB