Package: sarks Version: 1.18.0 Command: /Library/Frameworks/R.framework/Resources/bin/R CMD INSTALL sarks StartedAt: 2025-01-27 15:22:10 -0500 (Mon, 27 Jan 2025) EndedAt: 2025-01-27 15:22:24 -0500 (Mon, 27 Jan 2025) EllapsedTime: 13.0 seconds RetCode: 0 Status: OK