Package: sarks Version: 1.18.0 Command: /Library/Frameworks/R.framework/Resources/bin/R CMD check --install=check:sarks.install-out.txt --library=/Library/Frameworks/R.framework/Resources/library --no-vignettes --timings sarks_1.18.0.tar.gz StartedAt: 2025-04-02 07:18:37 -0400 (Wed, 02 Apr 2025) EndedAt: 2025-04-02 07:20:10 -0400 (Wed, 02 Apr 2025) EllapsedTime: 93.1 seconds RetCode: 0 Status: OK CheckDir: sarks.Rcheck Warnings: 0