Package: sarks Version: 1.18.0 Command: /Library/Frameworks/R.framework/Resources/bin/R CMD build --keep-empty-dirs --no-resave-data sarks StartedAt: 2025-04-01 06:46:53 -0400 (Tue, 01 Apr 2025) EndedAt: 2025-04-01 06:47:25 -0400 (Tue, 01 Apr 2025) EllapsedTime: 31.5 seconds RetCode: 0 Status: OK PackageFile: sarks_1.18.0.tar.gz PackageFileSize: 744.5 KiB