Package: sarks Version: 1.18.0 Command: rm -rf sarks.buildbin-libdir && mkdir sarks.buildbin-libdir && /Users/biocbuild/BBS/utils/build-universal.sh sarks_1.18.0.tar.gz /Library/Frameworks/R.framework/Resources/bin/R sarks.buildbin-libdir StartedAt: 2025-01-29 16:24:35 -0500 (Wed, 29 Jan 2025) EndedAt: 2025-01-29 16:24:50 -0500 (Wed, 29 Jan 2025) EllapsedTime: 14.6 seconds RetCode: 0 Status: OK PackageFile: sarks_1.18.0.tgz PackageFileSize: 778.3 KiB