Package: sangerseqR Version: 1.42.0 Command: /home/biocbuild/R/R/bin/R CMD check --install=check:sangerseqR.install-out.txt --library=/home/biocbuild/R/R/site-library --no-vignettes --timings sangerseqR_1.42.0.tar.gz StartedAt: 2025-01-28 10:53:53 -0000 (Tue, 28 Jan 2025) EndedAt: 2025-01-28 10:56:34 -0000 (Tue, 28 Jan 2025) EllapsedTime: 161.2 seconds RetCode: 0 Status: OK CheckDir: sangerseqR.Rcheck Warnings: 0