Package: sangerseqR Version: 1.42.0 Command: F:\biocbuild\bbs-3.20-bioc\R\bin\R.exe CMD INSTALL sangerseqR StartedAt: 2025-02-03 16:00:02 -0500 (Mon, 03 Feb 2025) EndedAt: 2025-02-03 16:00:46 -0500 (Mon, 03 Feb 2025) EllapsedTime: 44.1 seconds RetCode: 0 Status: OK