Package: sangerseqR Version: 1.42.0 Command: rm -rf sangerseqR.buildbin-libdir && mkdir sangerseqR.buildbin-libdir && F:\biocbuild\bbs-3.20-bioc\R\bin\R.exe CMD INSTALL --build --library=sangerseqR.buildbin-libdir sangerseqR_1.42.0.tar.gz StartedAt: 2025-02-04 09:25:36 -0500 (Tue, 04 Feb 2025) EndedAt: 2025-02-04 09:26:47 -0500 (Tue, 04 Feb 2025) EllapsedTime: 71.4 seconds RetCode: 0 Status: OK PackageFile: sangerseqR_1.42.0.zip PackageFileSize: 1.865 MiB