Package: sangeranalyseR Version: 1.16.0 Command: /home/biocbuild/R/R/bin/R CMD check --install=check:sangeranalyseR.install-out.txt --library=/home/biocbuild/R/R/site-library --no-vignettes --timings sangeranalyseR_1.16.0.tar.gz StartedAt: 2025-02-04 10:43:08 -0000 (Tue, 04 Feb 2025) EndedAt: 2025-02-04 10:48:03 -0000 (Tue, 04 Feb 2025) EllapsedTime: 294.4 seconds RetCode: 0 Status: WARNINGS CheckDir: sangeranalyseR.Rcheck Warnings: 6