Package: sangeranalyseR Version: 1.16.0 Command: rm -rf sangeranalyseR.buildbin-libdir && mkdir sangeranalyseR.buildbin-libdir && F:\biocbuild\bbs-3.20-bioc\R\bin\R.exe CMD INSTALL --build --library=sangeranalyseR.buildbin-libdir sangeranalyseR_1.16.0.tar.gz StartedAt: 2025-04-01 09:07:42 -0400 (Tue, 01 Apr 2025) EndedAt: 2025-04-01 09:11:59 -0400 (Tue, 01 Apr 2025) EllapsedTime: 256.8 seconds RetCode: 0 Status: OK PackageFile: sangeranalyseR_1.16.0.zip PackageFileSize: 5.783 MiB