Package: sangeranalyseR Version: 1.16.0 Command: /Library/Frameworks/R.framework/Resources/bin/R CMD INSTALL sangeranalyseR StartedAt: 2025-03-31 18:05:13 -0400 (Mon, 31 Mar 2025) EndedAt: 2025-03-31 18:05:39 -0400 (Mon, 31 Mar 2025) EllapsedTime: 25.5 seconds RetCode: 0 Status: OK