Package: sampleClassifier Version: 1.30.0 Command: /home/biocbuild/R/R/bin/R CMD INSTALL sampleClassifier StartedAt: 2025-03-31 20:39:17 -0000 (Mon, 31 Mar 2025) EndedAt: 2025-03-31 20:39:37 -0000 (Mon, 31 Mar 2025) EllapsedTime: 19.8 seconds RetCode: 0 Status: OK