Package: sampleClassifier Version: 1.30.0 Command: /home/biocbuild/R/R/bin/R CMD build --keep-empty-dirs --no-resave-data sampleClassifier StartedAt: 2025-04-01 02:18:09 -0000 (Tue, 01 Apr 2025) EndedAt: 2025-04-01 02:20:45 -0000 (Tue, 01 Apr 2025) EllapsedTime: 156.1 seconds RetCode: 0 Status: OK PackageFile: sampleClassifier_1.30.0.tar.gz PackageFileSize: 230.3 KiB