Package: sampleClassifier Version: 1.30.0 Command: F:\biocbuild\bbs-3.20-bioc\R\bin\R.exe CMD INSTALL sampleClassifier StartedAt: 2025-03-31 16:08:38 -0400 (Mon, 31 Mar 2025) EndedAt: 2025-03-31 16:09:10 -0400 (Mon, 31 Mar 2025) EllapsedTime: 31.4 seconds RetCode: 0 Status: OK