Package: sampleClassifier Version: 1.30.0 Command: /home/biocbuild/bbs-3.20-bioc/R/bin/R CMD INSTALL sampleClassifier StartedAt: 2025-01-27 16:20:44 -0500 (Mon, 27 Jan 2025) EndedAt: 2025-01-27 16:20:59 -0500 (Mon, 27 Jan 2025) EllapsedTime: 15.2 seconds RetCode: 0 Status: OK