Package: sampleClassifier Version: 1.30.0 Command: /Library/Frameworks/R.framework/Resources/bin/R CMD INSTALL sampleClassifier StartedAt: 2025-03-31 15:45:53 -0400 (Mon, 31 Mar 2025) EndedAt: 2025-03-31 15:46:26 -0400 (Mon, 31 Mar 2025) EllapsedTime: 33.1 seconds RetCode: 0 Status: OK