Package: sampleClassifier Version: 1.30.0 Command: /Library/Frameworks/R.framework/Resources/bin/R CMD build --keep-empty-dirs --no-resave-data sampleClassifier StartedAt: 2025-01-27 22:11:45 -0500 (Mon, 27 Jan 2025) EndedAt: 2025-01-27 22:17:02 -0500 (Mon, 27 Jan 2025) EllapsedTime: 316.5 seconds RetCode: 0 Status: OK PackageFile: sampleClassifier_1.30.0.tar.gz PackageFileSize: 238.7 KiB