Package: sampleClassifier Version: 1.30.0 Command: rm -rf sampleClassifier.buildbin-libdir && mkdir sampleClassifier.buildbin-libdir && /Users/biocbuild/BBS/utils/build-universal.sh sampleClassifier_1.30.0.tar.gz /Library/Frameworks/R.framework/Resources/bin/R sampleClassifier.buildbin-libdir StartedAt: 2025-04-01 12:40:28 -0400 (Tue, 01 Apr 2025) EndedAt: 2025-04-01 12:41:04 -0400 (Tue, 01 Apr 2025) EllapsedTime: 35.5 seconds RetCode: 0 Status: OK PackageFile: sampleClassifier_1.30.0.tgz PackageFileSize: 270.1 KiB