Package: sampleClassifier Version: 1.30.0 Command: /Library/Frameworks/R.framework/Resources/bin/R CMD INSTALL sampleClassifier StartedAt: 2025-03-31 16:24:33 -0400 (Mon, 31 Mar 2025) EndedAt: 2025-03-31 16:24:51 -0400 (Mon, 31 Mar 2025) EllapsedTime: 17.5 seconds RetCode: 0 Status: OK