Package: sagenhaft Version: 1.76.0 Command: /home/biocbuild/R/R/bin/R CMD INSTALL sagenhaft StartedAt: 2025-02-10 20:11:59 -0000 (Mon, 10 Feb 2025) EndedAt: 2025-02-10 20:12:26 -0000 (Mon, 10 Feb 2025) EllapsedTime: 27.7 seconds RetCode: 0 Status: OK