Package: sagenhaft Version: 1.76.0 Command: /home/biocbuild/R/R/bin/R CMD build --keep-empty-dirs --no-resave-data sagenhaft StartedAt: 2025-02-11 02:10:33 -0000 (Tue, 11 Feb 2025) EndedAt: 2025-02-11 02:10:43 -0000 (Tue, 11 Feb 2025) EllapsedTime: 10.0 seconds RetCode: 0 Status: OK PackageFile: sagenhaft_1.76.0.tar.gz PackageFileSize: 2.574 MiB