Package: sagenhaft Version: 1.76.0 Command: /Library/Frameworks/R.framework/Resources/bin/R CMD build --keep-empty-dirs --no-resave-data sagenhaft StartedAt: 2025-02-11 07:05:55 -0500 (Tue, 11 Feb 2025) EndedAt: 2025-02-11 07:06:09 -0500 (Tue, 11 Feb 2025) EllapsedTime: 14.9 seconds RetCode: 0 Status: OK PackageFile: sagenhaft_1.76.0.tar.gz PackageFileSize: 2.583 MiB