Package: sagenhaft Version: 1.76.0 Command: rm -rf sagenhaft.buildbin-libdir && mkdir sagenhaft.buildbin-libdir && /Users/biocbuild/BBS/utils/build-universal.sh sagenhaft_1.76.0.tar.gz /Library/Frameworks/R.framework/Resources/bin/R sagenhaft.buildbin-libdir StartedAt: 2025-02-12 16:50:18 -0500 (Wed, 12 Feb 2025) EndedAt: 2025-02-12 16:50:23 -0500 (Wed, 12 Feb 2025) EllapsedTime: 5.6 seconds RetCode: 0 Status: OK PackageFile: sagenhaft_1.76.0.tgz PackageFileSize: 2.701 MiB