Package: safe Version: 3.46.0 Command: /home/biocbuild/R/R/bin/R CMD INSTALL safe StartedAt: 2025-01-30 20:22:39 -0000 (Thu, 30 Jan 2025) EndedAt: 2025-01-30 20:22:58 -0000 (Thu, 30 Jan 2025) EllapsedTime: 19.1 seconds RetCode: 0 Status: OK