Package: safe Version: 3.46.0 Command: /home/biocbuild/R/R/bin/R CMD check --install=check:safe.install-out.txt --library=/home/biocbuild/R/R/site-library --no-vignettes --timings safe_3.46.0.tar.gz StartedAt: 2025-02-04 10:41:38 -0000 (Tue, 04 Feb 2025) EndedAt: 2025-02-04 10:43:24 -0000 (Tue, 04 Feb 2025) EllapsedTime: 106.2 seconds RetCode: 0 Status: OK CheckDir: safe.Rcheck Warnings: 0