Package: safe Version: 3.46.0 Command: /home/biocbuild/R/R/bin/R CMD build --keep-empty-dirs --no-resave-data safe StartedAt: 2025-01-31 02:22:05 -0000 (Fri, 31 Jan 2025) EndedAt: 2025-01-31 02:27:07 -0000 (Fri, 31 Jan 2025) EllapsedTime: 302.3 seconds RetCode: 0 Status: OK PackageFile: safe_3.46.0.tar.gz PackageFileSize: 699 KiB