Package: safe Version: 3.46.0 Command: F:\biocbuild\bbs-3.20-bioc\R\bin\R.exe CMD check --no-multiarch --install=check:safe.install-out.txt --library=F:\biocbuild\bbs-3.20-bioc\R\library --no-vignettes --timings safe_3.46.0.tar.gz StartedAt: 2025-01-31 06:01:06 -0500 (Fri, 31 Jan 2025) EndedAt: 2025-01-31 06:02:55 -0500 (Fri, 31 Jan 2025) EllapsedTime: 108.9 seconds RetCode: 0 Status: OK CheckDir: safe.Rcheck Warnings: 0