Package: safe Version: 3.46.0 Command: chmod a+r safe -R && F:\biocbuild\bbs-3.20-bioc\R\bin\R.exe CMD build --keep-empty-dirs --no-resave-data safe StartedAt: 2025-02-03 21:50:49 -0500 (Mon, 03 Feb 2025) EndedAt: 2025-02-03 21:56:45 -0500 (Mon, 03 Feb 2025) EllapsedTime: 356.7 seconds RetCode: 0 Status: OK PackageFile: safe_3.46.0.tar.gz PackageFileSize: 519.6 KiB