Package: safe Version: 3.46.0 Command: rm -rf safe.buildbin-libdir && mkdir safe.buildbin-libdir && F:\biocbuild\bbs-3.20-bioc\R\bin\R.exe CMD INSTALL --build --library=safe.buildbin-libdir safe_3.46.0.tar.gz StartedAt: 2025-02-04 09:25:16 -0500 (Tue, 04 Feb 2025) EndedAt: 2025-02-04 09:25:44 -0500 (Tue, 04 Feb 2025) EllapsedTime: 27.9 seconds RetCode: 0 Status: OK PackageFile: safe_3.46.0.zip PackageFileSize: 704.2 KiB