Package: safe Version: 3.46.0 Command: /Library/Frameworks/R.framework/Resources/bin/R CMD check --install=check:safe.install-out.txt --library=/Library/Frameworks/R.framework/Resources/library --no-vignettes --timings safe_3.46.0.tar.gz StartedAt: 2025-01-28 09:33:40 -0500 (Tue, 28 Jan 2025) EndedAt: 2025-01-28 09:37:05 -0500 (Tue, 28 Jan 2025) EllapsedTime: 204.6 seconds RetCode: 0 Status: OK CheckDir: safe.Rcheck Warnings: 0