Package: safe Version: 3.46.0 Command: /Library/Frameworks/R.framework/Resources/bin/R CMD INSTALL safe StartedAt: 2025-01-30 15:44:18 -0500 (Thu, 30 Jan 2025) EndedAt: 2025-01-30 15:44:36 -0500 (Thu, 30 Jan 2025) EllapsedTime: 17.9 seconds RetCode: 0 Status: OK