Package: safe Version: 3.46.0 Command: /Library/Frameworks/R.framework/Resources/bin/R CMD check --install=check:safe.install-out.txt --library=/Library/Frameworks/R.framework/Resources/library --no-vignettes --timings safe_3.46.0.tar.gz StartedAt: 2025-02-05 08:36:50 -0500 (Wed, 05 Feb 2025) EndedAt: 2025-02-05 08:38:33 -0500 (Wed, 05 Feb 2025) EllapsedTime: 103.2 seconds RetCode: 0 Status: OK CheckDir: safe.Rcheck Warnings: 0