Package: sSeq Version: 1.44.0 Command: /home/biocbuild/bbs-3.20-bioc/R/bin/R CMD build --keep-empty-dirs --no-resave-data --md5 sSeq StartedAt: 2025-02-03 19:30:54 -0500 (Mon, 03 Feb 2025) EndedAt: 2025-02-03 19:31:53 -0500 (Mon, 03 Feb 2025) EllapsedTime: 59.1 seconds RetCode: 0 Status: OK PackageFile: sSeq_1.44.0.tar.gz PackageFileSize: 4.203 MiB