Package: sSNAPPY Version: 1.10.0 Command: /home/biocbuild/R/R/bin/R CMD build --keep-empty-dirs --no-resave-data sSNAPPY StartedAt: 2025-04-01 02:58:42 -0000 (Tue, 01 Apr 2025) EndedAt: 2025-04-01 03:06:18 -0000 (Tue, 01 Apr 2025) EllapsedTime: 455.5 seconds RetCode: 0 Status: OK PackageFile: sSNAPPY_1.10.0.tar.gz PackageFileSize: 2.675 MiB