Package: sSNAPPY Version: 1.10.0 Command: /Library/Frameworks/R.framework/Resources/bin/R CMD build --keep-empty-dirs --no-resave-data sSNAPPY StartedAt: 2025-01-27 22:58:08 -0500 (Mon, 27 Jan 2025) EndedAt: 2025-01-27 23:15:38 -0500 (Mon, 27 Jan 2025) EllapsedTime: 1050.7 seconds RetCode: 0 Status: OK PackageFile: sSNAPPY_1.10.0.tar.gz PackageFileSize: 4.301 MiB