Package: sSNAPPY Version: 1.10.0 Command: /home/biocbuild/R/R/bin/R CMD INSTALL sSNAPPY StartedAt: 2024-11-19 20:43:23 -0000 (Tue, 19 Nov 2024) EndedAt: 2024-11-19 20:44:07 -0000 (Tue, 19 Nov 2024) EllapsedTime: 44.2 seconds RetCode: 0 Status: OK