Package: sSNAPPY Version: 1.10.0 Command: /home/biocbuild/R/R/bin/R CMD build --keep-empty-dirs --no-resave-data sSNAPPY StartedAt: 2024-11-20 04:16:22 -0000 (Wed, 20 Nov 2024) EndedAt: 2024-11-20 04:24:45 -0000 (Wed, 20 Nov 2024) EllapsedTime: 502.7 seconds RetCode: 0 Status: OK PackageFile: sSNAPPY_1.10.0.tar.gz PackageFileSize: 2.664 MiB