Package: sSNAPPY Version: 1.10.0 Command: /Library/Frameworks/R.framework/Resources/bin/R CMD INSTALL sSNAPPY StartedAt: 2025-03-31 15:43:23 -0400 (Mon, 31 Mar 2025) EndedAt: 2025-03-31 15:43:58 -0400 (Mon, 31 Mar 2025) EllapsedTime: 35.6 seconds RetCode: 0 Status: OK