Package: sSNAPPY Version: 1.10.0 Command: rm -rf sSNAPPY.buildbin-libdir && mkdir sSNAPPY.buildbin-libdir && /Users/biocbuild/BBS/utils/build-universal.sh sSNAPPY_1.10.0.tar.gz /Library/Frameworks/R.framework/Resources/bin/R sSNAPPY.buildbin-libdir StartedAt: 2025-04-02 16:31:33 -0400 (Wed, 02 Apr 2025) EndedAt: 2025-04-02 16:32:14 -0400 (Wed, 02 Apr 2025) EllapsedTime: 41.0 seconds RetCode: 0 Status: OK PackageFile: sSNAPPY_1.10.0.tgz PackageFileSize: 4.375 MiB