Package: sRACIPE Version: 1.22.0 Command: /home/biocbuild/R/R/bin/R CMD INSTALL sRACIPE StartedAt: 2025-01-30 20:38:57 -0000 (Thu, 30 Jan 2025) EndedAt: 2025-01-30 20:39:50 -0000 (Thu, 30 Jan 2025) EllapsedTime: 53.1 seconds RetCode: 0 Status: OK