Package: sRACIPE Version: 1.22.0 Command: /home/biocbuild/bbs-3.20-bioc/R/bin/R CMD INSTALL sRACIPE StartedAt: 2025-01-27 16:24:16 -0500 (Mon, 27 Jan 2025) EndedAt: 2025-01-27 16:24:59 -0500 (Mon, 27 Jan 2025) EllapsedTime: 42.7 seconds RetCode: 0 Status: OK