Package: sRACIPE Version: 1.22.0 Command: /Library/Frameworks/R.framework/Resources/bin/R CMD build --keep-empty-dirs --no-resave-data sRACIPE StartedAt: 2025-04-01 08:40:29 -0400 (Tue, 01 Apr 2025) EndedAt: 2025-04-01 08:41:35 -0400 (Tue, 01 Apr 2025) EllapsedTime: 66.1 seconds RetCode: 0 Status: OK PackageFile: sRACIPE_1.22.0.tar.gz PackageFileSize: 1.905 MiB