Package: runibic Version: 1.28.0 Command: rm -rf runibic.buildbin-libdir && mkdir runibic.buildbin-libdir && F:\biocbuild\bbs-3.20-bioc\R\bin\R.exe CMD INSTALL --build --library=runibic.buildbin-libdir runibic_1.28.0.tar.gz StartedAt: 2025-04-01 09:06:48 -0400 (Tue, 01 Apr 2025) EndedAt: 2025-04-01 09:07:37 -0400 (Tue, 01 Apr 2025) EllapsedTime: 49.1 seconds RetCode: 0 Status: OK PackageFile: runibic_1.28.0.zip PackageFileSize: 536.9 KiB